BEGIN:VCALENDAR
PRODID:-//BuyMyPlace//EN
VERSION:1.0
BEGIN:VEVENT
SUMMARY;LANGUAGE=en-us:12 Arborea Place, Bowral, NSW
CLASS:PUBLIC
CREATED:20260420T081756Z
DESCRIPTION:12 Arborea Place, Bowral, NSW
DTSTART:20260425T110000
DTEND:20260425T120000
DTSTAMP:20260425T120000
SEQUENCE:0
UID:8a04d1c7-1ce1-4903-9b93-f73aa866fd2c
LOCATION:12 Arborea Place, Bowral, NSW
END:VEVENT
END:VCALENDAR
