BEGIN:VCALENDAR
PRODID:-//BuyMyPlace//EN
VERSION:1.0
BEGIN:VEVENT
SUMMARY;LANGUAGE=en-us:15 Jessfield Terrace, Cranbourne East, VIC
CLASS:PUBLIC
CREATED:20260423T143542Z
DESCRIPTION:15 Jessfield Terrace, Cranbourne East, VIC
DTSTART:20260425T110000
DTEND:20260425T120000
DTSTAMP:20260425T120000
SEQUENCE:0
UID:c49da979-d2d2-4748-a3ad-86fa626c33a3
LOCATION:15 Jessfield Terrace, Cranbourne East, VIC
END:VEVENT
END:VCALENDAR
