BEGIN:VCALENDAR
PRODID:-//BuyMyPlace//EN
VERSION:1.0
BEGIN:VEVENT
SUMMARY;LANGUAGE=en-us:15A Canonbury Circle, Seabrook, VIC
CLASS:PUBLIC
CREATED:20260422T021123Z
DESCRIPTION:15A Canonbury Circle, Seabrook, VIC
DTSTART:20260422T183000
DTEND:20260422T190000
DTSTAMP:20260422T190000
SEQUENCE:0
UID:52aa8659-64e9-4423-803a-509ed301c1e5
LOCATION:15A Canonbury Circle, Seabrook, VIC
END:VEVENT
END:VCALENDAR
