BEGIN:VCALENDAR
PRODID:-//BuyMyPlace//EN
VERSION:1.0
BEGIN:VEVENT
SUMMARY;LANGUAGE=en-us:17 Wonga Street, Scarness, QLD
CLASS:PUBLIC
CREATED:20260425T132125Z
DESCRIPTION:17 Wonga Street, Scarness, QLD
DTSTART:20260426T100000
DTEND:20260426T103000
DTSTAMP:20260426T103000
SEQUENCE:0
UID:078d4dbd-827e-4885-b08b-0138130cf7ce
LOCATION:17 Wonga Street, Scarness, QLD
END:VEVENT
END:VCALENDAR
