BEGIN:VCALENDAR
PRODID:-//BuyMyPlace//EN
VERSION:1.0
BEGIN:VEVENT
SUMMARY;LANGUAGE=en-us:20 Callisto Street, Burpengary, QLD
CLASS:PUBLIC
CREATED:20260423T113335Z
DESCRIPTION:20 Callisto Street, Burpengary, QLD
DTSTART:20260426T130000
DTEND:20260426T134500
DTSTAMP:20260426T134500
SEQUENCE:0
UID:4a18f22b-2479-43b7-974a-58bfd5ea1909
LOCATION:20 Callisto Street, Burpengary, QLD
END:VEVENT
END:VCALENDAR
