BEGIN:VCALENDAR
PRODID:-//BuyMyPlace//EN
VERSION:1.0
BEGIN:VEVENT
SUMMARY;LANGUAGE=en-us:202 Newtown Road, Bega, NSW
CLASS:PUBLIC
CREATED:20260423T161031Z
DESCRIPTION:202 Newtown Road, Bega, NSW
DTSTART:20260426T104500
DTEND:20260426T113000
DTSTAMP:20260426T113000
SEQUENCE:0
UID:6e211b4d-30a7-4be9-a1c5-949c4422e1aa
LOCATION:202 Newtown Road, Bega, NSW
END:VEVENT
END:VCALENDAR
