BEGIN:VCALENDAR
PRODID:-//BuyMyPlace//EN
VERSION:1.0
BEGIN:VEVENT
SUMMARY;LANGUAGE=en-us:202 Newtown Road, Bega, NSW
CLASS:PUBLIC
CREATED:20260423T161032Z
DESCRIPTION:202 Newtown Road, Bega, NSW
DTSTART:20260502T104500
DTEND:20260502T114500
DTSTAMP:20260502T114500
SEQUENCE:0
UID:eed81317-a74a-47f1-9824-ceec8ba9e892
LOCATION:202 Newtown Road, Bega, NSW
END:VEVENT
END:VCALENDAR
