BEGIN:VCALENDAR
PRODID:-//BuyMyPlace//EN
VERSION:1.0
BEGIN:VEVENT
SUMMARY;LANGUAGE=en-us:22 Ferndale Street, Chatswood, NSW
CLASS:PUBLIC
CREATED:20260425T013001Z
DESCRIPTION:22 Ferndale Street, Chatswood, NSW
DTSTART:20260426T133000
DTEND:20260426T140000
DTSTAMP:20260426T140000
SEQUENCE:0
UID:5009f94c-fb97-48ee-b880-ec7440e03d97
LOCATION:22 Ferndale Street, Chatswood, NSW
END:VEVENT
END:VCALENDAR
