BEGIN:VCALENDAR
PRODID:-//BuyMyPlace//EN
VERSION:1.0
BEGIN:VEVENT
SUMMARY;LANGUAGE=en-us:26 Berthon Crescent, Hillside, VIC
CLASS:PUBLIC
CREATED:20260420T081552Z
DESCRIPTION:26 Berthon Crescent, Hillside, VIC
DTSTART:20260422T173000
DTEND:20260422T183000
DTSTAMP:20260422T183000
SEQUENCE:0
UID:6b4b9a92-4762-444c-b683-1427da84f77c
LOCATION:26 Berthon Crescent, Hillside, VIC
END:VEVENT
END:VCALENDAR
