BEGIN:VCALENDAR
PRODID:-//BuyMyPlace//EN
VERSION:1.0
BEGIN:VEVENT
SUMMARY;LANGUAGE=en-us:26 Berthon Crescent, Hillside, VIC
CLASS:PUBLIC
CREATED:20260420T080903Z
DESCRIPTION:26 Berthon Crescent, Hillside, VIC
DTSTART:20260425T090000
DTEND:20260425T100000
DTSTAMP:20260425T100000
SEQUENCE:0
UID:b7d49296-7559-41fa-ad23-a465d1bfb1cc
LOCATION:26 Berthon Crescent, Hillside, VIC
END:VEVENT
END:VCALENDAR
