BEGIN:VCALENDAR
PRODID:-//BuyMyPlace//EN
VERSION:1.0
BEGIN:VEVENT
SUMMARY;LANGUAGE=en-us:26 Sutton Place, Cannon Hill, QLD
CLASS:PUBLIC
CREATED:20260423T114449Z
DESCRIPTION:26 Sutton Place, Cannon Hill, QLD
DTSTART:20260429T170000
DTEND:20260429T173000
DTSTAMP:20260429T173000
SEQUENCE:0
UID:acee9363-530f-4c2f-9fb8-7cc01acbf0df
LOCATION:26 Sutton Place, Cannon Hill, QLD
END:VEVENT
END:VCALENDAR
