BEGIN:VCALENDAR
PRODID:-//BuyMyPlace//EN
VERSION:1.0
BEGIN:VEVENT
SUMMARY;LANGUAGE=en-us:279A Princes Highway, Corrimal, NSW
CLASS:PUBLIC
CREATED:20260423T103639Z
DESCRIPTION:279A Princes Highway, Corrimal, NSW
DTSTART:20260423T160000
DTEND:20260423T163000
DTSTAMP:20260423T163000
SEQUENCE:0
UID:1d18c5ce-3421-47ff-9a33-c3bdc49cb918
LOCATION:279A Princes Highway, Corrimal, NSW
END:VEVENT
END:VCALENDAR
