BEGIN:VCALENDAR
PRODID:-//BuyMyPlace//EN
VERSION:1.0
BEGIN:VEVENT
SUMMARY;LANGUAGE=en-us:8 Haley Mews, Baldivis, WA
CLASS:PUBLIC
CREATED:20260421T113210Z
DESCRIPTION:8 Haley Mews, Baldivis, WA
DTSTART:20260427T130000
DTEND:20260427T140000
DTSTAMP:20260427T140000
SEQUENCE:0
UID:08261078-3f47-4e45-b173-09d27c9fd93a
LOCATION:8 Haley Mews, Baldivis, WA
END:VEVENT
END:VCALENDAR
