BEGIN:VCALENDAR
PRODID:-//BuyMyPlace//EN
VERSION:1.0
BEGIN:VEVENT
SUMMARY;LANGUAGE=en-us:84 Dunford Road East, Grahams Creek, QLD
CLASS:PUBLIC
CREATED:20260423T183402Z
DESCRIPTION:84 Dunford Road East, Grahams Creek, QLD
DTSTART:20260502T120000
DTEND:20260502T130000
DTSTAMP:20260502T130000
SEQUENCE:0
UID:42bf75de-e509-46d8-9712-311d54fd3290
LOCATION:84 Dunford Road East, Grahams Creek, QLD
END:VEVENT
END:VCALENDAR
