BEGIN:VCALENDAR
PRODID:-//BuyMyPlace//EN
VERSION:1.0
BEGIN:VEVENT
SUMMARY;LANGUAGE=en-us:9 Archdale Loop, Piara Waters, WA
CLASS:PUBLIC
CREATED:20260424T071425Z
DESCRIPTION:9 Archdale Loop, Piara Waters, WA
DTSTART:20260425T113000
DTEND:20260425T120000
DTSTAMP:20260425T120000
SEQUENCE:0
UID:1933851d-c27c-4ec5-944d-2953825fdad0
LOCATION:9 Archdale Loop, Piara Waters, WA
END:VEVENT
END:VCALENDAR
