BEGIN:VCALENDAR
PRODID:-//BuyMyPlace//EN
VERSION:1.0
BEGIN:VEVENT
SUMMARY;LANGUAGE=en-us:Hivesville, QLD
CLASS:PUBLIC
CREATED:20260423T094414Z
DESCRIPTION:Hivesville, QLD
DTSTART:20260425T160000
DTEND:20260425T163000
DTSTAMP:20260425T163000
SEQUENCE:0
UID:1d17e4a7-e325-41b6-aed2-3ced1bd2d7e0
LOCATION:Hivesville, QLD
END:VEVENT
END:VCALENDAR
