BEGIN:VCALENDAR
PRODID:-//BuyMyPlace//EN
VERSION:1.0
BEGIN:VEVENT
SUMMARY;LANGUAGE=en-us:Hivesville, QLD
CLASS:PUBLIC
CREATED:20260423T094557Z
DESCRIPTION:Hivesville, QLD
DTSTART:20260429T160000
DTEND:20260429T163000
DTSTAMP:20260429T163000
SEQUENCE:0
UID:f1905193-0293-46c3-86f7-4764b9e7c008
LOCATION:Hivesville, QLD
END:VEVENT
END:VCALENDAR
