BEGIN:VCALENDAR
PRODID:-//BuyMyPlace//EN
VERSION:1.0
BEGIN:VEVENT
SUMMARY;LANGUAGE=en-us:Hivesville, QLD
CLASS:PUBLIC
CREATED:20260423T094801Z
DESCRIPTION:Hivesville, QLD
DTSTART:20260503T090000
DTEND:20260503T100000
DTSTAMP:20260503T100000
SEQUENCE:0
UID:9158b86c-915d-4b4a-9fc0-75888961d558
LOCATION:Hivesville, QLD
END:VEVENT
END:VCALENDAR
