BEGIN:VCALENDAR
PRODID:-//BuyMyPlace//EN
VERSION:1.0
BEGIN:VEVENT
SUMMARY;LANGUAGE=en-us:Unit 11, 133 Old Bowral Road, Bowral, NSW
CLASS:PUBLIC
CREATED:20260420T080903Z
DESCRIPTION:Unit 11, 133 Old Bowral Road, Bowral, NSW
DTSTART:20260425T100000
DTEND:20260425T110000
DTSTAMP:20260425T110000
SEQUENCE:0
UID:3f3d045b-d0c8-46c3-9c62-6cbacdc186c4
LOCATION:Unit 11, 133 Old Bowral Road, Bowral, NSW
END:VEVENT
END:VCALENDAR
