BEGIN:VCALENDAR
PRODID:-//BuyMyPlace//EN
VERSION:1.0
BEGIN:VEVENT
SUMMARY;LANGUAGE=en-us:Unit 112, 86 Centenary Drive, Strathfield, NSW
CLASS:PUBLIC
CREATED:20260421T095937Z
DESCRIPTION:Unit 112, 86 Centenary Drive, Strathfield, NSW
DTSTART:20260502T110000
DTEND:20260502T113000
DTSTAMP:20260502T113000
SEQUENCE:0
UID:33f85f41-ff73-4ee6-96aa-bd77bbae2ec6
LOCATION:Unit 112, 86 Centenary Drive, Strathfield, NSW
END:VEVENT
END:VCALENDAR
