BEGIN:VCALENDAR
PRODID:-//BuyMyPlace//EN
VERSION:1.0
BEGIN:VEVENT
SUMMARY;LANGUAGE=en-us:Unit 1201, 4 Saunders Close, Macquarie Park, NSW
CLASS:PUBLIC
CREATED:20260422T083239Z
DESCRIPTION:Unit 1201, 4 Saunders Close, Macquarie Park, NSW
DTSTART:20260425T150000
DTEND:20260425T153000
DTSTAMP:20260425T153000
SEQUENCE:0
UID:6214ee24-f599-4d5b-b417-dfb33180c280
LOCATION:Unit 1201, 4 Saunders Close, Macquarie Park, NSW
END:VEVENT
END:VCALENDAR
