BEGIN:VCALENDAR
PRODID:-//BuyMyPlace//EN
VERSION:1.0
BEGIN:VEVENT
SUMMARY;LANGUAGE=en-us:Unit 129, 2 Milyarm Rise, Swanbourne, WA
CLASS:PUBLIC
CREATED:20260423T173243Z
DESCRIPTION:Unit 129, 2 Milyarm Rise, Swanbourne, WA
DTSTART:20260425T113000
DTEND:20260425T121500
DTSTAMP:20260425T121500
SEQUENCE:0
UID:3138c26f-2427-4cbb-97de-3a6df6beaffd
LOCATION:Unit 129, 2 Milyarm Rise, Swanbourne, WA
END:VEVENT
END:VCALENDAR
