BEGIN:VCALENDAR
PRODID:-//BuyMyPlace//EN
VERSION:1.0
BEGIN:VEVENT
SUMMARY;LANGUAGE=en-us:Unit 2, 103 Lake Road, Port Macquarie, NSW
CLASS:PUBLIC
CREATED:20260423T144434Z
DESCRIPTION:Unit 2, 103 Lake Road, Port Macquarie, NSW
DTSTART:20260424T120000
DTEND:20260424T123000
DTSTAMP:20260424T123000
SEQUENCE:0
UID:9d93ab63-fbfb-4deb-a51d-8635de7a0024
LOCATION:Unit 2, 103 Lake Road, Port Macquarie, NSW
END:VEVENT
END:VCALENDAR
