BEGIN:VCALENDAR
PRODID:-//BuyMyPlace//EN
VERSION:1.0
BEGIN:VEVENT
SUMMARY;LANGUAGE=en-us:Unit 2, 103 Lake Road, Port Macquarie, NSW
CLASS:PUBLIC
CREATED:20260423T144435Z
DESCRIPTION:Unit 2, 103 Lake Road, Port Macquarie, NSW
DTSTART:20260425T120000
DTEND:20260425T123000
DTSTAMP:20260425T123000
SEQUENCE:0
UID:83ff3bc0-24fc-47f1-a6b7-f8365e44f431
LOCATION:Unit 2, 103 Lake Road, Port Macquarie, NSW
END:VEVENT
END:VCALENDAR
