BEGIN:VCALENDAR
PRODID:-//BuyMyPlace//EN
VERSION:1.0
BEGIN:VEVENT
SUMMARY;LANGUAGE=en-us:Unit 22, 128 Kinsellas Road West, Mango Hill, QLD
CLASS:PUBLIC
CREATED:20260422T101442Z
DESCRIPTION:Unit 22, 128 Kinsellas Road West, Mango Hill, QLD
DTSTART:20260422T130000
DTEND:20260422T140000
DTSTAMP:20260422T140000
SEQUENCE:0
UID:3244eb54-e631-4c50-9fff-328d7d1ad3b9
LOCATION:Unit 22, 128 Kinsellas Road West, Mango Hill, QLD
END:VEVENT
END:VCALENDAR
