BEGIN:VCALENDAR
PRODID:-//BuyMyPlace//EN
VERSION:1.0
BEGIN:VEVENT
SUMMARY;LANGUAGE=en-us:Unit 22, 128 Kinsellas Road West, Mango Hill, QLD
CLASS:PUBLIC
CREATED:20260422T101319Z
DESCRIPTION:Unit 22, 128 Kinsellas Road West, Mango Hill, QLD
DTSTART:20260423T153000
DTEND:20260423T173000
DTSTAMP:20260423T173000
SEQUENCE:0
UID:0e4e07ac-0a2b-4613-bacb-7e6be22c9030
LOCATION:Unit 22, 128 Kinsellas Road West, Mango Hill, QLD
END:VEVENT
END:VCALENDAR
