BEGIN:VCALENDAR
PRODID:-//BuyMyPlace//EN
VERSION:1.0
BEGIN:VEVENT
SUMMARY;LANGUAGE=en-us:Unit 22, 128 Kinsellas Road West, Mango Hill, QLD
CLASS:PUBLIC
CREATED:20260422T101132Z
DESCRIPTION:Unit 22, 128 Kinsellas Road West, Mango Hill, QLD
DTSTART:20260424T123000
DTEND:20260424T133000
DTSTAMP:20260424T133000
SEQUENCE:0
UID:dac47ceb-7c4d-43ec-9224-ba9b08d30789
LOCATION:Unit 22, 128 Kinsellas Road West, Mango Hill, QLD
END:VEVENT
END:VCALENDAR
