BEGIN:VCALENDAR
PRODID:-//BuyMyPlace//EN
VERSION:1.0
BEGIN:VEVENT
SUMMARY;LANGUAGE=en-us:Unit 22, 128 Kinsellas Road West, Mango Hill, QLD
CLASS:PUBLIC
CREATED:20260422T100857Z
DESCRIPTION:Unit 22, 128 Kinsellas Road West, Mango Hill, QLD
DTSTART:20260426T103000
DTEND:20260426T111500
DTSTAMP:20260426T111500
SEQUENCE:0
UID:d0aa76c0-882d-4673-970f-1cc019fbcc4e
LOCATION:Unit 22, 128 Kinsellas Road West, Mango Hill, QLD
END:VEVENT
END:VCALENDAR
