BEGIN:VCALENDAR
PRODID:-//BuyMyPlace//EN
VERSION:1.0
BEGIN:VEVENT
SUMMARY;LANGUAGE=en-us:Unit 22, 128 Kinsellas Road West, Mango Hill, QLD
CLASS:PUBLIC
CREATED:20260422T101442Z
DESCRIPTION:Unit 22, 128 Kinsellas Road West, Mango Hill, QLD
DTSTART:20260427T100000
DTEND:20260427T110000
DTSTAMP:20260427T110000
SEQUENCE:0
UID:c0368141-5146-42e7-830e-670a52af68e9
LOCATION:Unit 22, 128 Kinsellas Road West, Mango Hill, QLD
END:VEVENT
END:VCALENDAR
