BEGIN:VCALENDAR
PRODID:-//BuyMyPlace//EN
VERSION:1.0
BEGIN:VEVENT
SUMMARY;LANGUAGE=en-us:Unit 5, 35 Hotham Street, St Kilda East, VIC
CLASS:PUBLIC
CREATED:20260424T130512Z
DESCRIPTION:Unit 5, 35 Hotham Street, St Kilda East, VIC
DTSTART:20260426T113000
DTEND:20260426T123000
DTSTAMP:20260426T123000
SEQUENCE:0
UID:efaad76d-24d7-498d-93f0-c8ee469285c6
LOCATION:Unit 5, 35 Hotham Street, St Kilda East, VIC
END:VEVENT
END:VCALENDAR
