BEGIN:VCALENDAR
PRODID:-//BuyMyPlace//EN
VERSION:1.0
BEGIN:VEVENT
SUMMARY;LANGUAGE=en-us:Unit 6, 43 Berrima Street, Wynnum, QLD
CLASS:PUBLIC
CREATED:20260419T173550Z
DESCRIPTION:Unit 6, 43 Berrima Street, Wynnum, QLD
DTSTART:20260425T090000
DTEND:20260425T093000
DTSTAMP:20260425T093000
SEQUENCE:0
UID:096b4f30-8b5f-4a49-9e95-094e616f5184
LOCATION:Unit 6, 43 Berrima Street, Wynnum, QLD
END:VEVENT
END:VCALENDAR
